BEGIN:VCALENDAR
VERSION:2.0
PRODID:-//Tampa Business Club - ECPv6.15.18//NONSGML v1.0//EN
CALSCALE:GREGORIAN
METHOD:PUBLISH
X-WR-CALNAME:Tampa Business Club
X-ORIGINAL-URL:https://tampabusinessclub.com
X-WR-CALDESC:Events for Tampa Business Club
REFRESH-INTERVAL;VALUE=DURATION:PT1H
X-Robots-Tag:noindex
X-PUBLISHED-TTL:PT1H
BEGIN:VTIMEZONE
TZID:America/New_York
BEGIN:DAYLIGHT
TZOFFSETFROM:-0500
TZOFFSETTO:-0400
TZNAME:EDT
DTSTART:20250309T070000
END:DAYLIGHT
BEGIN:STANDARD
TZOFFSETFROM:-0400
TZOFFSETTO:-0500
TZNAME:EST
DTSTART:20251102T060000
END:STANDARD
BEGIN:DAYLIGHT
TZOFFSETFROM:-0500
TZOFFSETTO:-0400
TZNAME:EDT
DTSTART:20260308T070000
END:DAYLIGHT
BEGIN:STANDARD
TZOFFSETFROM:-0400
TZOFFSETTO:-0500
TZNAME:EST
DTSTART:20261101T060000
END:STANDARD
BEGIN:DAYLIGHT
TZOFFSETFROM:-0500
TZOFFSETTO:-0400
TZNAME:EDT
DTSTART:20270314T070000
END:DAYLIGHT
BEGIN:STANDARD
TZOFFSETFROM:-0400
TZOFFSETTO:-0500
TZNAME:EST
DTSTART:20271107T060000
END:STANDARD
END:VTIMEZONE
BEGIN:VEVENT
DTSTART;TZID=America/New_York:20260930T180000
DTEND;TZID=America/New_York:20260930T203000
DTSTAMP:20260421T193422
CREATED:20260331T050752Z
LAST-MODIFIED:20260331T050752Z
UID:1000018250-1790791200-1790800200@tampabusinessclub.com
SUMMARY:Women Impact Network Westshore Chapter
DESCRIPTION:Connect & network with some of the elite power Women in the area. Free admission\, free appetizers\, amazing connections. Women Impact Network\n\n\nWomen Impact Network Westshore Chapter\nJoin us at the Hotel Alba Tampa\, Tapestry Collection by Hilton.  for a fun and inspiring meetup! This is your chance to connect with amazing women\, share ideas\, and grow your network. The Women Impact Network is the fastest growing Women’s only community in town \n \nMark your calendar for the last Wednesday of every month\, 6 PM to 9 PM. (Eastern Time). Don’t miss out on this awesome opportunity to be part of something special in the Westshore community!
URL:https://tampabusinessclub.com/event/women-impact-network-westshore-chapter-3/
ATTACH;FMTTYPE=image/jpeg:https://tampabusinessclub.com/wp-content/uploads/2026/03/1000018248_image.jpg
END:VEVENT
BEGIN:VEVENT
DTSTART;TZID=America/New_York:20261013T180000
DTEND;TZID=America/New_York:20261013T210000
DTSTAMP:20260421T193422
CREATED:20260331T050747Z
LAST-MODIFIED:20260331T050747Z
UID:1000018245-1791914400-1791925200@tampabusinessclub.com
SUMMARY:Women Impact Network Wesley Chapel. Free Admission
DESCRIPTION:Join us at Women Impact Network Wesley Chapel chapter for a networking experience of empowerment\, connection\, & inspiration – all for free\n\n\nEvent: Women Impact Network Wesley Chapel\nVenue: Hyatt Place Lutz  \nDate: 2nd Tuesday of every month.  6pm to 8:30pm \nCome join us for an empowering event where women from all walks of life come together to network\, learn\, and grow. This is a fantastic opportunity to connect with like-minded individuals and inspire each other. Free Admission and Amazing Connections \nWhether you’re a seasoned professional or just starting out\, this event is open to all. Let’s build a supportive community and make an impact together!
URL:https://tampabusinessclub.com/event/women-impact-network-wesley-chapel-free-admission-7/
ATTACH;FMTTYPE=image/jpeg:https://tampabusinessclub.com/wp-content/uploads/2026/03/1000018239_image.jpg
END:VEVENT
END:VCALENDAR