BEGIN:VCALENDAR
VERSION:2.0
PRODID:-//Tampa Business Club - ECPv6.15.18//NONSGML v1.0//EN
CALSCALE:GREGORIAN
METHOD:PUBLISH
X-ORIGINAL-URL:https://tampabusinessclub.com
X-WR-CALDESC:Events for Tampa Business Club
REFRESH-INTERVAL;VALUE=DURATION:PT1H
X-Robots-Tag:noindex
X-PUBLISHED-TTL:PT1H
BEGIN:VTIMEZONE
TZID:UTC
BEGIN:STANDARD
TZOFFSETFROM:+0000
TZOFFSETTO:+0000
TZNAME:UTC
DTSTART:20250101T000000
END:STANDARD
END:VTIMEZONE
BEGIN:VEVENT
DTSTART;TZID=UTC:20260324T080000
DTEND;TZID=UTC:20260324T170000
DTSTAMP:20260421T113426
CREATED:20260324T212820Z
LAST-MODIFIED:20260324T212820Z
UID:1000018180-1774339200-1774371600@tampabusinessclub.com
SUMMARY:Women Impact Network Carrollwood chapter
DESCRIPTION:Come & network with some of Tampa Bay’s top Women ONLY entrepreneurs. Free Admission. No hidden agenda. You never know who’s in the room \n\n\n\n\nWelcome to the Women Impact Network Carrollwood chapter event!\nCome join us at Tampa Wine Room on September 17\, 2025\, at 10:00 AM (Eastern Time) for an afternoon filled with inspiration\, networking\, and empowerment. This is a fantastic opportunity to connect with like-minded women in your community and make meaningful connections. \nWhether you are a seasoned professional or just starting your career\, this event is for you! Get ready to be motivated by our guest speakers\, engage in thought-provoking discussions\, and build lasting relationships. \nDon’t miss out on this incredible event! Mark your calendars and get ready to be a part of something special. We can’t wait to see you there! LADIES ONLY \n\n\n 
URL:https://tampabusinessclub.com/event/women-impact-network-carrollwood-chapter/
LOCATION:11724 North Dale Mabry Highway  Tampa\, FL 33618\, 11724 North Dale Mabry Highway\, Tampa\, FL\, 33618\, United States
ATTACH;FMTTYPE=image/webp:https://tampabusinessclub.com/wp-content/uploads/2026/03/Carrollwood.webp
END:VEVENT
BEGIN:VEVENT
DTSTART;TZID=UTC:20260327T190000
DTEND;TZID=UTC:20260327T220000
DTSTAMP:20260421T113426
CREATED:20260324T201040Z
LAST-MODIFIED:20260324T201040Z
UID:1000018146-1774638000-1774648800@tampabusinessclub.com
SUMMARY:Black Dress/Tie Social. 200+ Attendees. Rooftop of Hyatt.
DESCRIPTION:Network & connect with some of the areas finest entrepreneurs. Open networking no hidden agenda. All Professionals welcomed. Free Appetizers \n\n\n\n\nWelcome to the Black Dress/Tie Social! \nGet ready to mingle with over 200 attendees on the rooftop of Hyatt Place Tampa Downtown on March 27\, 2026 at 6:00 PM (Eastern Time). Free Appetizers. Live Saxophonist. GET YOUR TICKET NOW. Cabanas available! \nDress to impress and enjoy the stunning views while networking with fellow professionals. Don’t miss out on this stylish event!
URL:https://tampabusinessclub.com/event/black-dress-tie-social-200-attendees-rooftop-of-hyatt/
LOCATION:325 North Florida Avenue  Tampa\, FL 33602\, 325 North Florida Avenue\, Tampa\, FL\, 33602\, United States
ATTACH;FMTTYPE=image/webp:https://tampabusinessclub.com/wp-content/uploads/2026/02/Black-Dress-Social.webp
END:VEVENT
END:VCALENDAR