BEGIN:VCALENDAR
VERSION:2.0
PRODID:-//Tampa Business Club - ECPv6.15.18//NONSGML v1.0//EN
CALSCALE:GREGORIAN
METHOD:PUBLISH
X-WR-CALNAME:Tampa Business Club
X-ORIGINAL-URL:https://tampabusinessclub.com
X-WR-CALDESC:Events for Tampa Business Club
REFRESH-INTERVAL;VALUE=DURATION:PT1H
X-Robots-Tag:noindex
X-PUBLISHED-TTL:PT1H
BEGIN:VTIMEZONE
TZID:UTC
BEGIN:STANDARD
TZOFFSETFROM:+0000
TZOFFSETTO:+0000
TZNAME:UTC
DTSTART:20240101T000000
END:STANDARD
END:VTIMEZONE
BEGIN:VEVENT
DTSTART;TZID=UTC:20250722T183000
DTEND;TZID=UTC:20250722T210000
DTSTAMP:20260422T000133
CREATED:20250717T180436Z
LAST-MODIFIED:20250717T202721Z
UID:1000017300-1753209000-1753218000@tampabusinessclub.com
SUMMARY:Women Supporting Women: Join the Women Impact Network – Oldsmar Chapter Launch!
DESCRIPTION:Oldsmar\, it’s your time to shine! Join a powerful circle of women making waves across Tampa Bay at the Women Impact Network Oldsmar Chapter launch event on Tuesday\, July 22nd from 6:00 to 9:00 PM EDT at the stylish Flamestone American Grill (4009 Tampa Road\, Oldsmar\, FL 34677). This vibrant evening of FREE networking and appetizers is the perfect opportunity to build authentic relationships\, exchange ideas\, and connect with driven\, like-minded women. Whether you’re an entrepreneur\, professional\, or just passionate about personal growth\, this community is here to uplift\, inspire\, and empower. \n Real talk. Real support. Real impact. \n Admission is free—but space is limited! \nRegister now to save your seat:  Click here to RSVP on Eventbrite Let’s grow\, thrive\, and rise—together. \nSee you in Oldsmar! \n#Tampa #TampaBay #StPete #Clearwater #ThingsToDo #LocalEvents #Networking #TampaBayConnects #TampaNetworking #WomenInBusiness #TampaEntrepreneurs #Startups #TampaEats #TampaNightlife #DowntownTampa #TampaEvents #TampaSocials#tampaMagazine #TampaBayMagazine \n TampaBusinessClub.com \nTampabayconnects.com \nWomenImpactNetwork.com \nTampaBayLatinChamber.com \nhttps://www.eventbrite.com/e/women-impact-network-oldsmar-chapter-free-admission-appetizers-tickets-1427520916489?aff=ebdsoporgprofile
URL:https://tampabusinessclub.com/event/women-supporting-women-join-the-women-impact-network-oldsmar-chapter-launch/
END:VEVENT
BEGIN:VEVENT
DTSTART;TZID=UTC:20250724T180000
DTEND;TZID=UTC:20250724T180000
DTSTAMP:20260422T000133
CREATED:20250717T180549Z
LAST-MODIFIED:20250717T202913Z
UID:1000017304-1753380000-1753380000@tampabusinessclub.com
SUMMARY:Sky-High Connections: Rooftop Networking After-Hours in Ybor!
DESCRIPTION:Ready to mix business with breathtaking views? Don’t miss Rooftop Networking After-Hours on Thursday\, July 24th from 6:00 to 9:00 PM EDT at the sleek and stylish Sterling Cigar Lounge & Bar (1531 East 7th Avenue\, Tampa\, FL 33605). This buzzing after-hours event is set to be packed with professionals\, entrepreneurs\, and community leaders looking to connect\, collaborate\, and unwind. Enjoy a vibrant rooftop vibe\, great conversations\, and FREE appetizers while you expand your network and build new relationships under the evening sky. \n Big energy. Big opportunity. All in one unforgettable night. \n Spots will fill up fast—secure yours now and elevate your networking game:  Click here to register on Eventbrite Come for the connections. \nStay for the rooftop vibes. \nLet’s network in style! \n#Tampa #TampaBay #StPete #Clearwater #ThingsToDo #LocalEvents #Networking #TampaBayConnects #TampaNetworking #WomenInBusiness #TampaEntrepreneurs #Startups #TampaEats #TampaNightlife #DowntownTampa #TampaEvents #TampaSocials#tampaMagazine #TampaBayMagazine \n TampaBusinessClub.com \nTampabayconnects.com \nWomenImpactNetwork.com \nTampaBayLatinChamber.com \nhttps://www.eventbrite.com/e/rooftop-networking-after-hours-free-appetizers-will-be-packed-tickets-1425728134229?aff=ebdsoporgprofile
URL:https://tampabusinessclub.com/event/sky-high-connections-rooftop-networking-after-hours-in-ybor/
ATTACH;FMTTYPE=image/avif:https://tampabusinessclub.com/wp-content/uploads/2025/07/https___cdn.evbuc_.com_images_1058100093_219764649937_1_original.avif
END:VEVENT
BEGIN:VEVENT
DTSTART;TZID=UTC:20250731T180000
DTEND;TZID=UTC:20250731T210000
DTSTAMP:20260422T000133
CREATED:20250717T180758Z
LAST-MODIFIED:20250717T204305Z
UID:1000017307-1753984800-1753995600@tampabusinessclub.com
SUMMARY:Unwind\, Connect\, and Grow at Networking After-Hours!
DESCRIPTION: FREE Appetizers | Thursday\, July 31 | 6–9 PM | Embassy Suites Westshore Tampa professionals\, mark your calendars for an unforgettable evening of connections and conversations! Join us for Networking After-Hours at the elegant Embassy Suites by Hilton Tampa Airport Westshore—the perfect setting to mix business with a little after-hours relaxation.  Date & Time: Thursday\, July 31 · 6–9 PM  Location: Embassy Suites by Hilton Tampa Airport Westshore 555 North Westshore Boulevard\, Tampa\, FL 33609 This free event invites you to meet and mingle with local professionals\, entrepreneurs\, and business leaders. Enjoy a welcoming atmosphere\, engaging conversations\, and—yes—FREE appetizers as you build relationships that can elevate your career or business. With its central location\, Embassy Suites Westshore makes it easy to stop by after work and leave with new contacts\, fresh ideas\, and real opportunities.  Spots are limited\, so don’t wait—register now!  Reserve your FREE ticket here Bring your business cards\, bring your energy—and get ready to network like never before!  Follow us on Instagram for updates:@TampaBusinessClub \n#Tampa #TampaBay #StPete #Clearwater #ThingsToDo #LocalEvents #Networking #TampaBayConnects #TampaNetworking #WomenInBusiness #TampaEntrepreneurs #Startups #TampaEats #TampaNightlife #DowntownTampa #TampaEvents #TampaSocials#tampaMagazine #TampaBayMagazine \n TampaBusinessClub.com \nTampabayconnects.com \nWomenImpactNetwork.com \nTampaBayLatinChamber.com \nhttps://www.eventbrite.com/e/networking-after-hours-embassy-suites-westshore-free-appetizers-tickets-1441546326869?aff=ebdsoporgprofile
URL:https://tampabusinessclub.com/event/unwind-connect-and-grow-at-networking-after-hours/
ATTACH;FMTTYPE=image/avif:https://tampabusinessclub.com/wp-content/uploads/2025/07/https___cdn.evbuc_.com_images_1061949513_219764649937_1_original-1.avif
END:VEVENT
END:VCALENDAR