BEGIN:VCALENDAR
VERSION:2.0
PRODID:-//Tampa Business Club - ECPv6.15.18//NONSGML v1.0//EN
CALSCALE:GREGORIAN
METHOD:PUBLISH
X-WR-CALNAME:Tampa Business Club
X-ORIGINAL-URL:https://tampabusinessclub.com
X-WR-CALDESC:Events for Tampa Business Club
REFRESH-INTERVAL;VALUE=DURATION:PT1H
X-Robots-Tag:noindex
X-PUBLISHED-TTL:PT1H
BEGIN:VTIMEZONE
TZID:America/New_York
BEGIN:DAYLIGHT
TZOFFSETFROM:-0500
TZOFFSETTO:-0400
TZNAME:EDT
DTSTART:20260308T070000
END:DAYLIGHT
BEGIN:STANDARD
TZOFFSETFROM:-0400
TZOFFSETTO:-0500
TZNAME:EST
DTSTART:20261101T060000
END:STANDARD
BEGIN:DAYLIGHT
TZOFFSETFROM:-0500
TZOFFSETTO:-0400
TZNAME:EDT
DTSTART:20270314T070000
END:DAYLIGHT
BEGIN:STANDARD
TZOFFSETFROM:-0400
TZOFFSETTO:-0500
TZNAME:EST
DTSTART:20271107T060000
END:STANDARD
BEGIN:DAYLIGHT
TZOFFSETFROM:-0500
TZOFFSETTO:-0400
TZNAME:EDT
DTSTART:20280312T070000
END:DAYLIGHT
BEGIN:STANDARD
TZOFFSETFROM:-0400
TZOFFSETTO:-0500
TZNAME:EST
DTSTART:20281105T060000
END:STANDARD
END:VTIMEZONE
BEGIN:VEVENT
DTSTART;TZID=America/New_York:20270125T090000
DTEND;TZID=America/New_York:20270125T190000
DTSTAMP:20260422T000521
CREATED:20260127T050850Z
LAST-MODIFIED:20260127T050850Z
UID:1000018006-1800867600-1800903600@tampabusinessclub.com
SUMMARY:TAMPA BAY BEAUTY EXPO 2027
DESCRIPTION:THE TAMPA BAY BEAUTY EXPO 2027 AT HOTEL FLOR. 75 VENDORS\, CERTIFICATIONS\, WORKSHOPS\, SPEAKERS\, & SO MUCH MORE. 2000+ ATTENDEES.\n\n\nWelcome to the TAMPA BAY BEAUTY EXPO 2027!\nCome join us at Hotel Flor Tampa Downtown\, Tapestry Collection by Hilton on January 25\, 2027 at 9:00 AM (Eastern Time) for a day filled with beauty\, glam\, and fun! \n9am to 3pm is VIP ONLY. \nFree to attend 3pm to 7pm for the first 1000 attendees. \nExperience the latest trends\, products\, and techniques in the beauty industry. Get pampered with makeovers\, skincare tips\, and hair styling demos from top professionals. \nConnect with fellow beauty enthusiasts\, shop exclusive deals\, and participate in exciting giveaways throughout the event. Don’t miss out on this fabulous opportunity to elevate your beauty game! \nMark your calendar and get ready to shine at the TAMPA BAY BEAUTY EXPO 2027! \n \nSunday Night: \nPre Expo Bash 6pm -9pm \nVendor set-up: 9pm -Midnight \n \nMONDAY: Vendor set-up 7am -9am. \nBall Rooms close at 9am sharp. VIP STARTS AT 9:10AM
URL:https://tampabusinessclub.com/event/tampa-bay-beauty-expo-2027/
ATTACH;FMTTYPE=image/png:https://tampabusinessclub.com/wp-content/uploads/2026/01/1000018006_image.png
END:VEVENT
END:VCALENDAR