BEGIN:VCALENDAR
VERSION:2.0
PRODID:-//Tampa Business Club - ECPv6.15.18//NONSGML v1.0//EN
CALSCALE:GREGORIAN
METHOD:PUBLISH
X-ORIGINAL-URL:https://tampabusinessclub.com
X-WR-CALDESC:Events for Tampa Business Club
REFRESH-INTERVAL;VALUE=DURATION:PT1H
X-Robots-Tag:noindex
X-PUBLISHED-TTL:PT1H
BEGIN:VTIMEZONE
TZID:UTC
BEGIN:STANDARD
TZOFFSETFROM:+0000
TZOFFSETTO:+0000
TZNAME:UTC
DTSTART:20250101T000000
END:STANDARD
END:VTIMEZONE
BEGIN:VTIMEZONE
TZID:America/New_York
BEGIN:DAYLIGHT
TZOFFSETFROM:-0500
TZOFFSETTO:-0400
TZNAME:EDT
DTSTART:20250309T070000
END:DAYLIGHT
BEGIN:STANDARD
TZOFFSETFROM:-0400
TZOFFSETTO:-0500
TZNAME:EST
DTSTART:20251102T060000
END:STANDARD
BEGIN:DAYLIGHT
TZOFFSETFROM:-0500
TZOFFSETTO:-0400
TZNAME:EDT
DTSTART:20260308T070000
END:DAYLIGHT
BEGIN:STANDARD
TZOFFSETFROM:-0400
TZOFFSETTO:-0500
TZNAME:EST
DTSTART:20261101T060000
END:STANDARD
BEGIN:DAYLIGHT
TZOFFSETFROM:-0500
TZOFFSETTO:-0400
TZNAME:EDT
DTSTART:20270314T070000
END:DAYLIGHT
BEGIN:STANDARD
TZOFFSETFROM:-0400
TZOFFSETTO:-0500
TZNAME:EST
DTSTART:20271107T060000
END:STANDARD
END:VTIMEZONE
BEGIN:VEVENT
DTSTART;TZID=UTC:20260619T090000
DTEND;TZID=UTC:20260619T170000
DTSTAMP:20260421T144136
CREATED:20260324T182137Z
LAST-MODIFIED:20260324T182137Z
UID:1000018110-1781859600-1781888400@tampabusinessclub.com
SUMMARY:Tampa Bay Summer Business EXPO.Largest Event of the Summer. Free 2 Register
DESCRIPTION:Meet & Connect with 1000+ local brands\, businesses\, and entrepreneurs at the Summer Business Showcase 2026\, The Largest Event Of The Summer! \n\n\n\n\nWelcome to the **Tampa Bay Summer Business EXPO** – the **Largest Event of the Summer**! Get ready for a day filled with networking\, learning\, and discovering new opportunities. \nConnect with over 1000 entrepreneurs throughout the day. \nFrom NBA & NFL Stars to elite CEOS. Our speakers’ lineup is guaranteed to be epic. \nBecome a vendor or sponsor today. \nThis event is **Free 2 Register**\, (1 pm to 5 pm)\, so don’t miss out on this fantastic opportunity! \nJoin us on **Fri\, Jun 19\, 2026**\, starting at **9:00 AM** for VIP’s at the beautiful **Hotel Alba Tampa\, Tapestry Collection by Hilton**. See you there!
URL:https://tampabusinessclub.com/event/tampa-bay-summer-business-expo-largest-event-of-the-summer-free-2-register-2/
LOCATION:5303 West Kennedy Boulevard  Tampa\, FL 33609\, 5303 West Kennedy Boulevard Tampa\, Florida\, 33609\, United States
ATTACH;FMTTYPE=image/jpeg:https://tampabusinessclub.com/wp-content/uploads/2026/03/1000018092_image.jpg
END:VEVENT
BEGIN:VEVENT
DTSTART;TZID=America/New_York:20260619T090000
DTEND;TZID=America/New_York:20260619T170000
DTSTAMP:20260421T144136
CREATED:20260331T050741Z
LAST-MODIFIED:20260331T050741Z
UID:1000018238-1781859600-1781888400@tampabusinessclub.com
SUMMARY:Tampa Bay Summer Business EXPO.Largest Event of the Summer. Free 2 Register
DESCRIPTION:Meet & Connect with 1000+ local  brands businesses and entrepreneurs at the Summer Business Showcase 2026 The Largest Event Of  The Summer!\n\n\nWelcome to the **Tampa Bay Summer Business EXPO** – the **Largest Event of the Summer**! Get ready for a day filled with networking\, learning\, and discovering new opportunities. \n \nConnect with over 1000 entrepreneurs throughout the day. \n \nFrom NBA & NFL Stars to elite CEOS. Our speakers lineup is guaranteed to be epic. \n \nBecome a vendor or sponsor today. \n \nThis event is **Free 2 Register**\, (1pm to 5pm) so don’t miss out on this fantastic opportunity! \nJoin us on **Fri\, Jun 19\, 2026**\, starting at **9:00 AM** for VIP’s at the beautiful **Hotel Alba Tampa\, Tapestry Collection by Hilton**. See you there!
URL:https://tampabusinessclub.com/event/tampa-bay-summer-business-expo-largest-event-of-the-summer-free-2-register/
ATTACH;FMTTYPE=image/jpeg:https://tampabusinessclub.com/wp-content/uploads/2026/03/1000018092_image.jpg
END:VEVENT
END:VCALENDAR