BEGIN:VCALENDAR
VERSION:2.0
PRODID:-//Tampa Business Club - ECPv6.15.18//NONSGML v1.0//EN
CALSCALE:GREGORIAN
METHOD:PUBLISH
X-ORIGINAL-URL:https://tampabusinessclub.com
X-WR-CALDESC:Events for Tampa Business Club
REFRESH-INTERVAL;VALUE=DURATION:PT1H
X-Robots-Tag:noindex
X-PUBLISHED-TTL:PT1H
BEGIN:VTIMEZONE
TZID:UTC
BEGIN:STANDARD
TZOFFSETFROM:+0000
TZOFFSETTO:+0000
TZNAME:UTC
DTSTART:20240101T000000
END:STANDARD
END:VTIMEZONE
BEGIN:VEVENT
DTSTART;TZID=UTC:20251121T090000
DTEND;TZID=UTC:20251121T150000
DTSTAMP:20260421T193624
CREATED:20251001T175108Z
LAST-MODIFIED:20251001T175129Z
UID:1000017643-1763715600-1763737200@tampabusinessclub.com
SUMMARY:7th Annual Tampa Bay Business Expo – FREE Entry (3PM–7PM) | 2\,000+ Attendees!
DESCRIPTION:Get ready\, Tampa Bay! The biggest business event of the year is back and bigger than ever. Don’t miss the 7th Annual Tampa Bay Business Expo\, happening Friday\, November 21 from 9:00 AM to 3:00 PM at the elegant Hotel Flor Downtown Tampa — a full day packed with opportunity\, innovation\, and connection. \nWith 2\,000+ attendees\, this premier event brings together entrepreneurs\, business leaders\, startups\, professionals\, and vendors under one roof for a high-impact networking and growth experience. \n🎯 Why You Should Be There (Especially from 3PM–7PM — It’s FREE!): \n\nConnect with 2\,000+ local professionals\nDiscover innovative products\, services & local vendors\nAttend expert-led sessions & workshops\nEnjoy FREE entry from 3:00 PM to 7:00 PM! \n\nWhether you’re looking to grow your brand\, find new partners\, or just be where Tampa Bay’s business energy is at its peak\, this is THE event to attend. \nLocation:\n 📍 Hotel Flor Tampa Downtown\, Tapestry Collection by Hilton\n 905 North Florida Avenue\n Tampa\, FL 33602 \n🗓 Date: Friday\, November 21\n ⏰ Time: 9:00 AM – 3:00 PM EST (Free entry from 3PM–7PM) \n📸 See the energy for yourself: Check it out on Instagram \n 👉 Register Now on Eventbrite \n#Tampa #TampaBay #StPete #Clearwater #ThingsToDo #LocalEvents #Networking #TampaBayConnects #TampaNetworking #WomenInBusiness #TampaEntrepreneurs #Startups #TampaEats #TampaNightlife #DowntownTampa #TampaEvents #TampaSocials#tampaMagazine #TampaBayMagazine \nTampaBusinessClub.com \nTampabayconnects.com \nWomenImpactNetwork.com \nTampaBayLatinChamber.com \n \nhttps://www.eventbrite.com/e/7th-annual-tampa-bay-business-expo-free-3pm-7pm-2000-attendees-tickets-1511059602949?aff=ebdsoporgprofile
URL:https://tampabusinessclub.com/event/7th-annual-tampa-bay-business-expo-free-entry-3pm-7pm-2000-attendees/
ATTACH;FMTTYPE=image/jpeg:https://tampabusinessclub.com/wp-content/uploads/2025/10/https___cdn.evbuc_.com_images_1081420533_219764649937_1_original.jpeg
END:VEVENT
END:VCALENDAR