BEGIN:VCALENDAR
VERSION:2.0
PRODID:-//Tampa Business Club - ECPv6.15.18//NONSGML v1.0//EN
CALSCALE:GREGORIAN
METHOD:PUBLISH
X-WR-CALNAME:Tampa Business Club
X-ORIGINAL-URL:https://tampabusinessclub.com
X-WR-CALDESC:Events for Tampa Business Club
REFRESH-INTERVAL;VALUE=DURATION:PT1H
X-Robots-Tag:noindex
X-PUBLISHED-TTL:PT1H
BEGIN:VTIMEZONE
TZID:UTC
BEGIN:STANDARD
TZOFFSETFROM:+0000
TZOFFSETTO:+0000
TZNAME:UTC
DTSTART:20240101T000000
END:STANDARD
END:VTIMEZONE
BEGIN:VEVENT
DTSTART;TZID=UTC:20251005T173000
DTEND;TZID=UTC:20251025T203000
DTSTAMP:20260421T210321
CREATED:20250924T143711Z
LAST-MODIFIED:20250924T143711Z
UID:1000017566-1759685400-1761424200@tampabusinessclub.com
SUMMARY:Veteran's in Business happy hour. Free admission. Free Apps
DESCRIPTION:VETERANS JOIN US @ the Veteran’s in Business happy hour @Saddlebags Ybor. Free admission appetizers & amazing connections. ALL VET INVITED.
URL:https://tampabusinessclub.com/event/veterans-in-business-happy-hour-free-admission-free-apps/
LOCATION:2234 East 7th Avenue Tampa\, FL 33605 United States\, 2234 East 7th Avenue Tampa\, Tampa\, FL\, 33605\, United States
ATTACH;FMTTYPE=image/jpeg:https://tampabusinessclub.com/wp-content/uploads/2025/08/https___cdn.evbuc_.com_images_1074280663_219764649937_1_original.jpeg
END:VEVENT
BEGIN:VEVENT
DTSTART;TZID=UTC:20251016T173000
DTEND;TZID=UTC:20251016T203000
DTSTAMP:20260421T210321
CREATED:20251001T173146Z
LAST-MODIFIED:20251001T173232Z
UID:1000017627-1760635800-1760646600@tampabusinessclub.com
SUMMARY:Third Thursday Networking Firechat @ Venue 2106 – 150+ Attendees. Free Admission!
DESCRIPTION:150 local professionals\, entrepreneurs\, and community leaders for an evening of powerful conversations\, high-impact connections\, and serious networking at the Third Thursday Networking Firechat @ Venue 2106. \nHappening Thursday\, October 16 from 5:30 PM to 8:30 PM\, this event is all about real talk\, real people\, and real opportunities — no pressure\, no pitch-fests\, just pure connection.🔥 What’s a Firechat?\n Think TED Talk meets open mic — inspiring\, interactive\, and designed to spark meaningful dialogue. Whether you’re scaling a startup or exploring new career paths\, you’ll leave with fresh ideas and valuable new contacts. \n🎯 Why You Should Attend: \n\nFREE Admission \n150+ Like-Minded Attendees \nInspiring firechat sessions with local changemakers\n\nLocation:\n 📍 Venue 2106\n 2106 West Main Street\n Tampa\, FL 33607 \n🗓 Date: Thursday\, October 16\n ⏰ Time: 5:30 PM – 8:30 PM EDT \n📸 Get a sneak peek of past events: View on Instagram \n👉 Register on Eventbrite \n#Tampa #TampaBay #StPete #Clearwater #ThingsToDo #LocalEvents #Networking #TampaBayConnects #TampaNetworking #WomenInBusiness #TampaEntrepreneurs #Startups #TampaEats #TampaNightlife #DowntownTampa #TampaEvents #TampaSocials#tampaMagazine #TampaBayMagazine \nTampaBusinessClub.com \nTampabayconnects.com \nWomenImpactNetwork.com \nTampaBayLatinChamber.com \n \nhttps://www.eventbrite.com/e/third-thursday-networking-firechatvenue-2106-free-admission150-attendees-tickets-1750890112459?aff=ebdsoporgprofile
URL:https://tampabusinessclub.com/event/third-thursday-networking-firechat-venue-2106-150-attendees-free-admission/
ATTACH;FMTTYPE=image/jpeg:https://tampabusinessclub.com/wp-content/uploads/2025/10/https___cdn.evbuc_.com_images_1137427473_219764649937_1_original.jpeg
END:VEVENT
END:VCALENDAR