BEGIN:VCALENDAR
VERSION:2.0
PRODID:-//Tampa Business Club - ECPv6.15.18//NONSGML v1.0//EN
CALSCALE:GREGORIAN
METHOD:PUBLISH
X-WR-CALNAME:Tampa Business Club
X-ORIGINAL-URL:https://tampabusinessclub.com
X-WR-CALDESC:Events for Tampa Business Club
REFRESH-INTERVAL;VALUE=DURATION:PT1H
X-Robots-Tag:noindex
X-PUBLISHED-TTL:PT1H
BEGIN:VTIMEZONE
TZID:UTC
BEGIN:STANDARD
TZOFFSETFROM:+0000
TZOFFSETTO:+0000
TZNAME:UTC
DTSTART:20240101T000000
END:STANDARD
END:VTIMEZONE
BEGIN:VEVENT
DTSTART;TZID=UTC:20250909T183000
DTEND;TZID=UTC:20250909T203000
DTSTAMP:20260421T222528
CREATED:20251001T152943Z
LAST-MODIFIED:20251001T152943Z
UID:1000017582-1757442600-1757449800@tampabusinessclub.com
SUMMARY:Empower. Connect. Elevate.
DESCRIPTION:Women Impact Network – Wesley Chapel | Free Admission \nLadies of Wesley Chapel and beyond — this one’s for you! Whether you’re an entrepreneur\, professional\, creative\, or community leader\, the Women Impact Network is where bold ideas meet meaningful connections. \n📅 Monday\, September 9 | 6:30 PM – 8:30 PM\n 📍 Hyatt Place Tampa Wesley Chapel\n 26000 Sierra Center Boulevard\, Lutz\, FL 33559 \nJoin a vibrant community of women who are making moves and leaving an impact. This free evening event is your chance to meet fellow change-makers\, share your story\, and get inspired by the power of purposeful networking. \nWhy You Should Be There:\n\n💬 Real conversations with real women doing incredible things\n\n🤝 Build relationships that go beyond the business card\n\n✨ Grow your personal and professional influence\n\n💡 Hear empowering stories and strategies from local leaders\n\nWhether you’re launching something new or looking to grow your existing network\, Women Impact Network is your space to thrive. \n👉 Click here to register on Eventbrite \n📲 Stay in the loop and catch the highlights on Instagram:\n instagram.com/p/DLiTABmvQgE \n#Tampa #TampaBay #StPete #Clearwater #ThingsToDo #LocalEvents #Networking #TampaBayConnects #TampaNetworking #WomenInBusiness #TampaEntrepreneurs #Startups #TampaEats #TampaNightlife #DowntownTampa #TampaEvents #TampaSocials#tampaMagazine #TampaBayMagazine \nTampaBusinessClub.com \nTampabayconnects.com \nWomenImpactNetwork.com \nTampaBayLatinChamber.com \n \nhttps://www.eventbrite.com/e/women-impact-network-wesley-chapel-free-admission-tickets-1549355266309?aff=ebdsoporgprofile
URL:https://tampabusinessclub.com/event/empower-connect-elevate/
END:VEVENT
BEGIN:VEVENT
DTSTART;TZID=UTC:20250909T183000
DTEND;TZID=UTC:20250909T203000
DTSTAMP:20260421T222528
CREATED:20251001T153221Z
LAST-MODIFIED:20251001T153246Z
UID:1000017586-1757442600-1757449800@tampabusinessclub.com
SUMMARY:Empower. Connect. Elevate.
DESCRIPTION:Women Impact Network – Wesley Chapel | Free Admission \nLadies of Wesley Chapel and beyond — this one’s for you! Whether you’re an entrepreneur\, professional\, creative\, or community leader\, the Women Impact Network is where bold ideas meet meaningful connections. \n📅 Monday\, September 9 | 6:30 PM – 8:30 PM\n 📍 Hyatt Place Tampa Wesley Chapel\n 26000 Sierra Center Boulevard\, Lutz\, FL 33559 \nJoin a vibrant community of women who are making moves and leaving an impact. This free evening event is your chance to meet fellow change-makers\, share your story\, and get inspired by the power of purposeful networking. \nWhy You Should Be There:\n\n💬 Real conversations with real women doing incredible things \n🤝 Build relationships that go beyond the business card \n✨ Grow your personal and professional influence \n💡 Hear empowering stories and strategies from local leaders\n\nWhether you’re launching something new or looking to grow your existing network\, Women Impact Network is your space to thrive. \n👉 Click here to register on Eventbrite \n📲 Stay in the loop and catch the highlights on Instagram:\n instagram.com/p/DLiTABmvQgE \n#Tampa #TampaBay #StPete #Clearwater #ThingsToDo #LocalEvents #Networking #TampaBayConnects #TampaNetworking #WomenInBusiness #TampaEntrepreneurs #Startups #TampaEats #TampaNightlife #DowntownTampa #TampaEvents #TampaSocials#tampaMagazine #TampaBayMagazine \nTampaBusinessClub.com \nTampabayconnects.com \nWomenImpactNetwork.com \nTampaBayLatinChamber.com \n \nhttps://www.eventbrite.com/e/women-impact-network-wesley-chapel-free-admission-tickets-1549355266309?aff=ebdsoporgprofile
URL:https://tampabusinessclub.com/event/empower-connect-elevate-2/
END:VEVENT
END:VCALENDAR