BEGIN:VCALENDAR
VERSION:2.0
PRODID:-//Tampa Business Club - ECPv6.15.18//NONSGML v1.0//EN
CALSCALE:GREGORIAN
METHOD:PUBLISH
X-WR-CALNAME:Tampa Business Club
X-ORIGINAL-URL:https://tampabusinessclub.com
X-WR-CALDESC:Events for Tampa Business Club
REFRESH-INTERVAL;VALUE=DURATION:PT1H
X-Robots-Tag:noindex
X-PUBLISHED-TTL:PT1H
BEGIN:VTIMEZONE
TZID:UTC
BEGIN:STANDARD
TZOFFSETFROM:+0000
TZOFFSETTO:+0000
TZNAME:UTC
DTSTART:20240101T000000
END:STANDARD
END:VTIMEZONE
BEGIN:VEVENT
DTSTART;TZID=UTC:20250902T180000
DTEND;TZID=UTC:20250902T203000
DTSTAMP:20260421T222526
CREATED:20250901T193227Z
LAST-MODIFIED:20250901T193736Z
UID:1000017559-1756836000-1756845000@tampabusinessclub.com
SUMMARY:🌟 Women Impact Network: Networking Social in Downtown St. Pete – Free Admission! 🌟
DESCRIPTION:Calling all women leaders\, innovators\, and changemakers! The Women Impact Network invites you to an empowering evening of connection at the Networking Social DTSP\, happening Tuesday\, September 2\, from 6 – 8:30 PM at the beautiful Hangar Restaurant & Flight Lounge in St. Petersburg. \n📍 Location: The Hangar Restaurant & Flight Lounge\, 540 1st Street South\, St. Petersburg\, FL 33701 \nThis is more than just a networking event — it’s an opportunity to build authentic relationships\, share ideas\, and collaborate with inspiring women who are making an impact across Tampa Bay. With free admission\, an energetic atmosphere\, and the perfect backdrop for meaningful conversations\, this is the place to expand your circle and fuel your vision. \nWhether you’re an entrepreneur\, professional\, creative\, or simply passionate about connecting with powerful women\, this social is designed for you. Come ready to network\, engage\, and leave empowered. \n🎟️ Admission is free\, but space is limited — reserve your spot today!\n 👉 Register now on Eventbrite \n#Tampa #TampaBay #StPete #Clearwater #ThingsToDo #LocalEvents #Networking #TampaBayConnects #TampaNetworking #WomenInBusiness #TampaEntrepreneurs #Startups #TampaEats #TampaNightlife #DowntownTampa #TampaEvents #TampaSocials#tampaMagazine #TampaBayMagazine \nTampaBusinessClub.com \nTampabayconnects.com \nWomenImpactNetwork.com \nTampaBayLatinChamber.com \nhttps://www.eventbrite.com/e/women-impact-network-networking-social-dtsp-free-admission-tickets-1603226907839?aff=ebdsoporgprofile&utm_source=chatgpt.com \n \n  \n 
URL:https://tampabusinessclub.com/event/%f0%9f%8c%9f-women-impact-network-networking-social-in-downtown-st-pete-free-admission-%f0%9f%8c%9f/
END:VEVENT
END:VCALENDAR