BEGIN:VCALENDAR
VERSION:2.0
PRODID:-//Tampa Business Club - ECPv6.15.18//NONSGML v1.0//EN
CALSCALE:GREGORIAN
METHOD:PUBLISH
X-WR-CALNAME:Tampa Business Club
X-ORIGINAL-URL:https://tampabusinessclub.com
X-WR-CALDESC:Events for Tampa Business Club
REFRESH-INTERVAL;VALUE=DURATION:PT1H
X-Robots-Tag:noindex
X-PUBLISHED-TTL:PT1H
BEGIN:VTIMEZONE
TZID:UTC
BEGIN:STANDARD
TZOFFSETFROM:+0000
TZOFFSETTO:+0000
TZNAME:UTC
DTSTART:20240101T000000
END:STANDARD
END:VTIMEZONE
BEGIN:VEVENT
DTSTART;TZID=UTC:20250814T180000
DTEND;TZID=UTC:20250814T210000
DTSTAMP:20260422T000131
CREATED:20250717T181135Z
LAST-MODIFIED:20250717T204034Z
UID:1000017318-1755194400-1755205200@tampabusinessclub.com
SUMMARY:Network with a View: Rooftop Networking After-Hours @ Vista on the Top by Marriott
DESCRIPTION:Mark your calendars and prepare to elevate your networking game—literally! Join Tampa Bay’s most driven professionals for Rooftop Networking After-Hours @ Vista on the Top by Marriott on Thursday\, August 14th from 6:00 to 9:00 PM EDT at the stunning Vista at the Top (214 Madonna Boulevard\, Tierra Verde\, FL 33715). Set against sweeping waterfront views\, this high-energy rooftop gathering offers the perfect blend of business and pleasure. Whether you’re looking to grow your brand\, meet new collaborators\, or just unwind with like-minded professionals\, this evening delivers meaningful connections\, vibrant atmosphere\, and unbeatable scenery.  Chic rooftop venue. Incredible people. Unforgettable conversations. \n Admission is FREE\, but space is limited—reserve your spot today:  Click here to register on Eventbrite Dress to impress\, bring your business cards\, and let the sky be the limit. \nWe’ll see you at the top! \n#Tampa #TampaBay #StPete #Clearwater #ThingsToDo #LocalEvents #Networking #TampaBayConnects #TampaNetworking #WomenInBusiness #TampaEntrepreneurs #Startups #TampaEats #TampaNightlife #DowntownTampa #TampaEvents #TampaSocials#tampaMagazine #TampaBayMagazine \n TampaBusinessClub.com \nTampabayconnects.com \nWomenImpactNetwork.com \nTampaBayLatinChamber.com \nhttps://www.eventbrite.com/e/rooftop-networking-after-hours-vista-on-the-top-by-marriot-tickets-1428011343369?aff=ebdsoporgprofile
URL:https://tampabusinessclub.com/event/network-with-a-view-rooftop-networking-after-hours-vista-on-the-top-by-marriott/
ATTACH;FMTTYPE=image/avif:https://tampabusinessclub.com/wp-content/uploads/2025/07/https___cdn.evbuc_.com_images_1058665503_219764649937_1_original.avif
END:VEVENT
END:VCALENDAR