BEGIN:VCALENDAR
VERSION:2.0
PRODID:-//Tampa Business Club - ECPv6.15.18//NONSGML v1.0//EN
CALSCALE:GREGORIAN
METHOD:PUBLISH
X-WR-CALNAME:Tampa Business Club
X-ORIGINAL-URL:https://tampabusinessclub.com
X-WR-CALDESC:Events for Tampa Business Club
REFRESH-INTERVAL;VALUE=DURATION:PT1H
X-Robots-Tag:noindex
X-PUBLISHED-TTL:PT1H
BEGIN:VTIMEZONE
TZID:UTC
BEGIN:STANDARD
TZOFFSETFROM:+0000
TZOFFSETTO:+0000
TZNAME:UTC
DTSTART:20240101T000000
END:STANDARD
END:VTIMEZONE
BEGIN:VEVENT
DTSTART;TZID=UTC:20250813T173000
DTEND;TZID=UTC:20250813T203000
DTSTAMP:20260422T030658
CREATED:20250717T181028Z
LAST-MODIFIED:20250717T204121Z
UID:1000017315-1755106200-1755117000@tampabusinessclub.com
SUMMARY:Veterans in Business Happy Hour: Connect\, Celebrate\, and Collaborate!
DESCRIPTION:Calling all veterans and business professionals! Join us on Wednesday\, August 13\, at the iconic Saddlebags Ybor in Tampa for an evening of networking\, celebration\, and collaboration. Event Details:  Location: 2234 East 7th Avenue\, Tampa\, FL  Time: 5:30 PM – 8:30 PM  Admission: Free  Complimentary appetizers provided Whether you’re launching a startup\, growing your business\, or simply looking to support veteran-owned enterprises\, this event is your chance to unwind and build meaningful connections with fellow veterans and entrepreneurs. Don’t miss out on: Meeting like-minded professionals  Sharing your story  Finding potential business partners  Enjoying great food and conversation in a relaxed atmosphere  Space is limited\, so be sure to secure your spot today! \n Register now for free! \nFollow us on Instagram for updates and more: instagram.com/tampabusinessclub \nGet ready for an evening of camaraderie\, connection\, and community. \nSee you at Saddlebags Ybor! \n#Tampa #TampaBay #StPete #Clearwater #ThingsToDo #LocalEvents #Networking #TampaBayConnects #TampaNetworking #WomenInBusiness #TampaEntrepreneurs #Startups #TampaEats #TampaNightlife #DowntownTampa #TampaEvents #TampaSocials#tampaMagazine #TampaBayMagazine \n TampaBusinessClub.com \nTampabayconnects.com \nWomenImpactNetwork.com \nTampaBayLatinChamber.com \nhttps://www.eventbrite.com/e/veterans-in-business-happy-hour-free-admission-free-apps-tickets-1493437605079?aff=ebdsoporgprofil
URL:https://tampabusinessclub.com/event/veterans-in-business-happy-hour-connect-celebrate-and-collaborate/
ATTACH;FMTTYPE=image/avif:https://tampabusinessclub.com/wp-content/uploads/2025/07/https___cdn.evbuc_.com_images_1074280663_219764649937_1_original.avif
END:VEVENT
END:VCALENDAR