BEGIN:VCALENDAR
VERSION:2.0
PRODID:-//Tampa Business Club - ECPv6.15.18//NONSGML v1.0//EN
CALSCALE:GREGORIAN
METHOD:PUBLISH
X-WR-CALNAME:Tampa Business Club
X-ORIGINAL-URL:https://tampabusinessclub.com
X-WR-CALDESC:Events for Tampa Business Club
REFRESH-INTERVAL;VALUE=DURATION:PT1H
X-Robots-Tag:noindex
X-PUBLISHED-TTL:PT1H
BEGIN:VTIMEZONE
TZID:UTC
BEGIN:STANDARD
TZOFFSETFROM:+0000
TZOFFSETTO:+0000
TZNAME:UTC
DTSTART:20240101T000000
END:STANDARD
END:VTIMEZONE
BEGIN:VEVENT
DTSTART;TZID=UTC:20250812T090000
DTEND;TZID=UTC:20250812T110000
DTSTAMP:20260422T000131
CREATED:20250718T204520Z
LAST-MODIFIED:20250722T153329Z
UID:1000017369-1754989200-1754996400@tampabusinessclub.com
SUMMARY:Perk Up Your Morning at Coffee & Referrals in Ybor City!
DESCRIPTION:Ready to spark meaningful conversations\, make valuable connections\, and enjoy a fresh cup of local brew? Join us for Coffee & Referrals at Ybor City Coffee and Tea Co on Tuesday\, August 12\, from 9 AM to 11 AM EDT! \nThis relaxed yet energetic networking event is your chance to mingle with fellow professionals\, entrepreneurs\, and community leaders in one of Tampa’s most historic and charming neighborhoods. Whether you’re looking to grow your business\, explore new partnerships\, or just meet like-minded go-getters\, this is the perfect place to start your day. \nCome prepared with your business cards—and your best pitch! \n📍 Location:\n Ybor City Coffee and Tea Co\n 1907 North 19th Street\, Tampa\, FL 33605 \n🎟️ Reserve your free spot now:\n 👉 https://www.eventbrite.com/e/coffee-referrals-ybor-city-coffee-tea-tickets-1505017220019?aff=ebdssbdestsearch \nStart your day with caffeine and connections—see you there! \n  \n#Tampa #TampaBay #StPete #Clearwater #ThingsToDo #LocalEvents #Networking #TampaBayConnects #TampaNetworking #WomenInBusiness #TampaEntrepreneurs #Startups #TampaEats #TampaNightlife #DowntownTampa #TampaEvents #TampaSocials#tampaMagazine #TampaBayMagazine \n TampaBusinessClub.com \nTampabayconnects.com \nWomenImpactNetwork.com \nTampaBayLatinChamber.com \n  \nhttps://www.eventbrite.com/e/coffee-referrals-ybor-city-coffee-tea-tickets-1505017220019?aff=ebdssbdestsearch
URL:https://tampabusinessclub.com/event/elevate-your-connections-rooftop-networking-after-hours-vista-on-the-top-by-marriott/
ATTACH;FMTTYPE=image/jpeg:https://tampabusinessclub.com/wp-content/uploads/2025/07/https___cdn.evbuc_.com_images_1076528863_219764649937_1_original.jpg
END:VEVENT
BEGIN:VEVENT
DTSTART;TZID=UTC:20250812T183000
DTEND;TZID=UTC:20250812T203000
DTSTAMP:20260422T000131
CREATED:20250731T181323Z
LAST-MODIFIED:20250731T181412Z
UID:1000017398-1755023400-1755030600@tampabusinessclub.com
SUMMARY:Women Impact Network Wesley Chapel — Connect\, Empower\, Elevate!
DESCRIPTION:Calling all dynamic women of Wesley Chapel and beyond! Get ready for a night of networking\, empowerment\, and elevated conversation at the Women Impact Network Wesley Chapel event — hosted at the stunning Skybox Rooftop Bar at 2867 Lajuana Boulevard\, Wesley Chapel\, FL 33543. \nThis FREE ADMISSION gathering is more than just a meet-up—it’s a movement. Join inspiring women leaders\, entrepreneurs\, professionals\, and changemakers as we build meaningful relationships and grow together in business and in purpose. Whether you’re a seasoned pro or just starting your journey\, this is the perfect opportunity to get plugged into a thriving community of powerful women who are ready to support and celebrate one another. \n🌆 Sip. Socialize. Spark connections. \nDon’t miss your chance to be part of something impactful—on the rooftop and beyond! \n🎟️ Reserve your FREE spot now:\n 👉 Register on Eventbrite \n#Tampa #TampaBay #StPete #Clearwater #ThingsToDo #LocalEvents #Networking #TampaBayConnects #TampaNetworking #WomenInBusiness #TampaEntrepreneurs #Startups #TampaEats #TampaNightlife #DowntownTampa #TampaEvents #TampaSocials#tampaMagazine #TampaBayMagazine \n TampaBusinessClub.com \nTampabayconnects.com \nWomenImpactNetwork.com \nTampaBayLatinChamber.com \nhttps://www.eventbrite.com/e/women-impact-network-wesley-chapel-free-admission-tickets-1549355266309?aff=ebdsoporgprofile
URL:https://tampabusinessclub.com/event/women-impact-network-wesley-chapel-connect-empower-elevate/
END:VEVENT
END:VCALENDAR