BEGIN:VCALENDAR
VERSION:2.0
PRODID:-//Tampa Business Club - ECPv6.15.18//NONSGML v1.0//EN
CALSCALE:GREGORIAN
METHOD:PUBLISH
X-ORIGINAL-URL:https://tampabusinessclub.com
X-WR-CALDESC:Events for Tampa Business Club
REFRESH-INTERVAL;VALUE=DURATION:PT1H
X-Robots-Tag:noindex
X-PUBLISHED-TTL:PT1H
BEGIN:VTIMEZONE
TZID:UTC
BEGIN:STANDARD
TZOFFSETFROM:+0000
TZOFFSETTO:+0000
TZNAME:UTC
DTSTART:20240101T000000
END:STANDARD
END:VTIMEZONE
BEGIN:VEVENT
DTSTART;TZID=UTC:20250806T180000
DTEND;TZID=UTC:20250806T210000
DTSTAMP:20260422T000250
CREATED:20250731T181756Z
LAST-MODIFIED:20250731T181756Z
UID:1000017401-1754503200-1754514000@tampabusinessclub.com
SUMMARY:Roll the Dice on Big Connections: HUGE Networking Bash @ Hard Rock L-Bar!
DESCRIPTION:Tampa’s biggest summer networking event is here—and it’s bringing the energy to one of the city’s most iconic venues! Get ready for the HUGE Networking Bash @ Hard Rock L-Bar\, happening Wednesday\, August 6 from 6 PM to 9 PM at the stylish L-Bar inside Seminole Hard Rock Hotel & Casino Tampa. \nThis isn’t your average mixer—it’s a power-packed night of high-level networking\, high-style ambiance\, and high-stakes connections with Tampa’s top professionals\, creatives\, entrepreneurs\, and industry leaders. Whether you’re building your brand\, expanding your circle\, or just love a good night out\, this event is your jackpot! \n🎉 Why You Should Attend: \n\nNetwork with 100+ driven\, like-minded professionals\n\nSip signature cocktails in a luxurious casino setting\n\nDiscover new opportunities\, partnerships\, and ideas\n\nElevate your business game in a fun\, relaxed atmosphere\n\n\n🃏 Location:\n L-Bar @ Seminole Hard Rock Hotel & Casino\n 5223 Orient Road\, Tampa\, FL 33610 \n🎟️ Admission is free\, but space is limited!\n 👉 Register now to reserve your spot \nDress sharp. Bring business cards. Be ready to make big moves.\n The spotlight’s waiting—see you at the L-Bar! 💼🍸🔥 \n#Tampa #TampaBay #StPete #Clearwater #ThingsToDo #LocalEvents #Networking #TampaBayConnects #TampaNetworking #WomenInBusiness #TampaEntrepreneurs #Startups #TampaEats #TampaNightlife #DowntownTampa #TampaEvents #TampaSocials#tampaMagazine #TampaBayMagazine \n TampaBusinessClub.com \nTampabayconnects.com \nWomenImpactNetwork.com \nTampaBayLatinChamber.com \n  \nhttps://www.eventbrite.com/e/huge-networking-bash-hardrock-l-bar-tickets-1545168674099?aff=ebdssbdestsearch
URL:https://tampabusinessclub.com/event/roll-the-dice-on-big-connections-huge-networking-bash-hard-rock-l-bar/
END:VEVENT
END:VCALENDAR