BEGIN:VCALENDAR
VERSION:2.0
PRODID:-//Tampa Business Club - ECPv6.15.18//NONSGML v1.0//EN
CALSCALE:GREGORIAN
METHOD:PUBLISH
X-WR-CALNAME:Tampa Business Club
X-ORIGINAL-URL:https://tampabusinessclub.com
X-WR-CALDESC:Events for Tampa Business Club
REFRESH-INTERVAL;VALUE=DURATION:PT1H
X-Robots-Tag:noindex
X-PUBLISHED-TTL:PT1H
BEGIN:VTIMEZONE
TZID:UTC
BEGIN:STANDARD
TZOFFSETFROM:+0000
TZOFFSETTO:+0000
TZNAME:UTC
DTSTART:20240101T000000
END:STANDARD
END:VTIMEZONE
BEGIN:VEVENT
DTSTART;TZID=UTC:20250805T180000
DTEND;TZID=UTC:20250805T203000
DTSTAMP:20260422T000134
CREATED:20250717T180916Z
LAST-MODIFIED:20250717T204217Z
UID:1000017311-1754416800-1754425800@tampabusinessclub.com
SUMMARY:Sip\, Socialize\, and Connect at the Women Impact Network – DTSP!
DESCRIPTION: FREE Admission | Tuesday\, August 5 | 6–8:30 PM | The Hangar\, St. Pete Get ready\, St. Pete! The Women Impact Network is landing in Downtown St. Petersburg for an unforgettable Networking Social at one of the city’s most iconic venues—The Hangar Restaurant & Flight Lounge.  Date & Time: Tuesday\, August 5 · 6–8:30 PM  Location: The Hangar Restaurant & Flight Lounge 540 1st Street South\, St. Petersburg\, FL 33701 Join us for a relaxed\, uplifting evening where women in business\, leadership\, and entrepreneurship come together to build real relationships\, spark collaboration\, and fuel success. Whether you’re a local professional\, business owner\, or just starting your journey\, this event is the perfect space to connect with like-minded women making big moves. Enjoy delicious food\, great conversation\, and a vibrant community—all with FREE admission! \n Don’t miss this opportunity to network\, grow\, and be inspired.  Reserve your FREE spot now Bring your business cards and ambition—we’ll see you at The Hangar! \n Follow us on Instagram for updates: @TampaBusinessClub \n#Tampa #TampaBay #StPete #Clearwater #ThingsToDo #LocalEvents #Networking #TampaBayConnects #TampaNetworking #WomenInBusiness #TampaEntrepreneurs #Startups #TampaEats #TampaNightlife #DowntownTampa #TampaEvents #TampaSocials#tampaMagazine #TampaBayMagazine \n TampaBusinessClub.com \nTampabayconnects.com \nWomenImpactNetwork.com \nTampaBayLatinChamber.com \nhttps://www.eventbrite.com/e/women-impact-network-networking-social-dtsp-free-admission-tickets-1474076826469?aff=ebdsoporgprofile
URL:https://tampabusinessclub.com/event/sip-socialize-and-connect-at-the-women-impact-network-dtsp/
END:VEVENT
BEGIN:VEVENT
DTSTART;TZID=UTC:20250805T180000
DTEND;TZID=UTC:20250805T203000
DTSTAMP:20260422T000134
CREATED:20251001T154558Z
LAST-MODIFIED:20251001T154634Z
UID:1000017598-1754416800-1754425800@tampabusinessclub.com
SUMMARY:Elevate Your Network in Downtown St. Pete!
DESCRIPTION:Women Impact Network – DTSP Networking Social | Free Admission \nLooking for a networking event that’s more real talk than small talk? Join us for an unforgettable evening with the Women Impact Network in the heart of Downtown St. Pete! \n📅 Tuesday\, October 7 | 6:00 PM – 8:30 PM EDT\n 📍 The Hangar Restaurant & Flight Lounge\n 540 1st Street South\, St. Petersburg\, FL 33701 \nThis free networking social offers the perfect mix of purpose-driven conversations\, fresh connections\, and fabulous vibes — all set in a chic\, aviation-themed lounge with runway views and sky-high inspiration. \nWhat to Expect:\n\n💬 Real conversations with bold\, ambitious women \n🍸 Delicious food & drinks available for purchase \n💼 Build authentic connections to boost your biz or career \n✨ Empowerment\, encouragement\, and that signature WIN energy! \n\nWhether you’re growing a brand\, launching a side hustle\, or just looking to surround yourself with empowering energy — this night is your runway to rise. \n👉 Register here on Eventbrite \n📲 Catch behind-the-scenes moments & future events on Instagram:\n instagram.com/p/DLiTABmvQgE \n#Tampa #TampaBay #StPete #Clearwater #ThingsToDo #LocalEvents #Networking #TampaBayConnects #TampaNetworking #WomenInBusiness #TampaEntrepreneurs #Startups #TampaEats #TampaNightlife #DowntownTampa #TampaEvents #TampaSocials#tampaMagazine #TampaBayMagazine \nTampaBusinessClub.com \nTampabayconnects.com \nWomenImpactNetwork.com \nTampaBayLatinChamber.com \n \nhttps://www.eventbrite.com/e/women-impact-network-networking-social-dtsp-free-admission-tickets-1658160054359?aff=ebdsoporgprofile
URL:https://tampabusinessclub.com/event/elevate-your-network-in-downtown-st-pete/
END:VEVENT
END:VCALENDAR