BEGIN:VCALENDAR
VERSION:2.0
PRODID:-//Tampa Business Club - ECPv6.15.18//NONSGML v1.0//EN
CALSCALE:GREGORIAN
METHOD:PUBLISH
X-ORIGINAL-URL:https://tampabusinessclub.com
X-WR-CALDESC:Events for Tampa Business Club
REFRESH-INTERVAL;VALUE=DURATION:PT1H
X-Robots-Tag:noindex
X-PUBLISHED-TTL:PT1H
BEGIN:VTIMEZONE
TZID:UTC
BEGIN:STANDARD
TZOFFSETFROM:+0000
TZOFFSETTO:+0000
TZNAME:UTC
DTSTART:20240101T000000
END:STANDARD
END:VTIMEZONE
BEGIN:VEVENT
DTSTART;TZID=UTC:20250724T180000
DTEND;TZID=UTC:20250724T180000
DTSTAMP:20260422T013912
CREATED:20250717T180549Z
LAST-MODIFIED:20250717T202913Z
UID:1000017304-1753380000-1753380000@tampabusinessclub.com
SUMMARY:Sky-High Connections: Rooftop Networking After-Hours in Ybor!
DESCRIPTION:Ready to mix business with breathtaking views? Don’t miss Rooftop Networking After-Hours on Thursday\, July 24th from 6:00 to 9:00 PM EDT at the sleek and stylish Sterling Cigar Lounge & Bar (1531 East 7th Avenue\, Tampa\, FL 33605). This buzzing after-hours event is set to be packed with professionals\, entrepreneurs\, and community leaders looking to connect\, collaborate\, and unwind. Enjoy a vibrant rooftop vibe\, great conversations\, and FREE appetizers while you expand your network and build new relationships under the evening sky. \n Big energy. Big opportunity. All in one unforgettable night. \n Spots will fill up fast—secure yours now and elevate your networking game:  Click here to register on Eventbrite Come for the connections. \nStay for the rooftop vibes. \nLet’s network in style! \n#Tampa #TampaBay #StPete #Clearwater #ThingsToDo #LocalEvents #Networking #TampaBayConnects #TampaNetworking #WomenInBusiness #TampaEntrepreneurs #Startups #TampaEats #TampaNightlife #DowntownTampa #TampaEvents #TampaSocials#tampaMagazine #TampaBayMagazine \n TampaBusinessClub.com \nTampabayconnects.com \nWomenImpactNetwork.com \nTampaBayLatinChamber.com \nhttps://www.eventbrite.com/e/rooftop-networking-after-hours-free-appetizers-will-be-packed-tickets-1425728134229?aff=ebdsoporgprofile
URL:https://tampabusinessclub.com/event/sky-high-connections-rooftop-networking-after-hours-in-ybor/
ATTACH;FMTTYPE=image/avif:https://tampabusinessclub.com/wp-content/uploads/2025/07/https___cdn.evbuc_.com_images_1058100093_219764649937_1_original.avif
END:VEVENT
END:VCALENDAR