BEGIN:VCALENDAR
VERSION:2.0
PRODID:-//Tampa Business Club - ECPv6.15.18//NONSGML v1.0//EN
CALSCALE:GREGORIAN
METHOD:PUBLISH
X-ORIGINAL-URL:https://tampabusinessclub.com
X-WR-CALDESC:Events for Tampa Business Club
REFRESH-INTERVAL;VALUE=DURATION:PT1H
X-Robots-Tag:noindex
X-PUBLISHED-TTL:PT1H
BEGIN:VTIMEZONE
TZID:UTC
BEGIN:STANDARD
TZOFFSETFROM:+0000
TZOFFSETTO:+0000
TZNAME:UTC
DTSTART:20240101T000000
END:STANDARD
END:VTIMEZONE
BEGIN:VEVENT
DTSTART;TZID=UTC:20250627T190000
DTEND;TZID=UTC:20250627T220000
DTSTAMP:20260422T030920
CREATED:20250414T144140Z
LAST-MODIFIED:20250414T144248Z
UID:1000016658-1751050800-1751061600@tampabusinessclub.com
SUMMARY:✨ Black Dress/Tie Social — Rooftop Elegance in the Heart of Downtown Tampa!
DESCRIPTION:Get ready to step into elegance and elevate your Friday night at the Black Dress/Tie Social\, happening Friday\, June 27 from 7 PM to 10 PM at the stunning rooftop of Hyatt Place Tampa Downtown. \nThis is not your average networking mixer—it’s a glamorous evening designed for style\, sophistication\, and meaningful connection. Dress to impress in your finest black attire and enjoy elevated conversations with fellow professionals\, creatives\, and entrepreneurs while soaking in panoramic views of the downtown skyline. \n🎩 What to Expect: \n\nRooftop ambiance with city lights as your backdrop\nA stylish crowd dressed in their best\nMusic\, mingling\, and magical moments\nUnmatched networking opportunities in an upscale setting\n\n📍 Location: Hyatt Place Tampa Downtown\n 📅 Date: Friday\, June 27\n 🕖 Time: 7:00 PM – 10:00 PM\n 🎟️ Admission: Free (with RSVP) \n✨ Whether you’re building your network or just ready for a night of elegance and inspiration—this event is not to be missed. \n👉 Register now to secure your spot: \nhttps://www.eventbrite.com/e/black-dresstie-social-rooftop-of-hyatt-place-downtown-tampa-tickets-1310455049329?aff=ebdsoporgprofile \n#Tampa #TampaBay #StPete #Clearwater #ThingsToDo #LocalEvents #Networking #TampaBayConnects #TampaNetworking #WomenInBusiness #TampaEntrepreneurs #Startups #TampaEats #TampaNightlife #DowntownTampa #TampaEvents #TampaSocials\n TampaBusinessClub\ntampabayconnects.com\nWomenImpactNetwork \nTampaBayLatinChamber \n  \nhttps://www.eventbrite.com/e/black-dresstie-social-rooftop-of-hyatt-place-downtown-tampa-tickets-1310455049329?aff=ebdsoporgprofile
URL:https://tampabusinessclub.com/event/%e2%9c%a8-black-dress-tie-social-rooftop-elegance-in-the-heart-of-downtown-tampa/
ATTACH;FMTTYPE=image/png:https://tampabusinessclub.com/wp-content/uploads/2025/04/Untitled-design.png
END:VEVENT
END:VCALENDAR