BEGIN:VCALENDAR
VERSION:2.0
PRODID:-//Tampa Business Club - ECPv6.15.18//NONSGML v1.0//EN
CALSCALE:GREGORIAN
METHOD:PUBLISH
X-ORIGINAL-URL:https://tampabusinessclub.com
X-WR-CALDESC:Events for Tampa Business Club
REFRESH-INTERVAL;VALUE=DURATION:PT1H
X-Robots-Tag:noindex
X-PUBLISHED-TTL:PT1H
BEGIN:VTIMEZONE
TZID:UTC
BEGIN:STANDARD
TZOFFSETFROM:+0000
TZOFFSETTO:+0000
TZNAME:UTC
DTSTART:20240101T000000
END:STANDARD
END:VTIMEZONE
BEGIN:VEVENT
DTSTART;TZID=UTC:20250612T180000
DTEND;TZID=UTC:20250612T210000
DTSTAMP:20260422T031008
CREATED:20250602T193627Z
LAST-MODIFIED:20250602T193959Z
UID:1000016976-1749751200-1749762000@tampabusinessclub.com
SUMMARY:🌆 Mix\, Mingle & Make Connections at Networking AfterHours @ Ave Blu!
DESCRIPTION:Looking to grow your network while enjoying a relaxed evening out? Don’t miss Networking AfterHours @ Ave Blu on Thursday\, June 12 from 6 PM to 9 PM at 122 South Howard Avenue\, Tampa\, FL. \nHosted by the Tampa Business Club\, this event brings together professionals from all industries for a dynamic night of networking\, conversation\, and collaboration. Whether you’re an entrepreneur\, creative\, corporate leader\, or just starting your journey—you’re invited! \n🎉 BONUS: Free appetizers will be served! Enjoy delicious bites while building connections that could shape your next big opportunity. \n📸 Catch the vibe here:\n Follow Tampa Business Club \n🎟️ Admission is free\, but registration is required—secure your spot now!\n 👉 Register Here \nhttps://www.eventbrite.com/e/networking-afterhours-ave-blu-free-appetizers-all-professionals-invited-tickets-1389616142289?aff=ebdsoporgprofile \n  \n#Tampa #TampaBay #StPete #Clearwater #ThingsToDo #LocalEvents #Networking #TampaBayConnects #TampaNetworking #WomenInBusiness #TampaEntrepreneurs #Startups #TampaEats #TampaNightlife #DowntownTampa #TampaEvents #TampaSocials#tampaMagazine #TampaBayMagazine\n TampaBusinessClub\ntampabayconnects.com\nWomenImpactNetwork \nTampaBayLatinChamber \nhttps://www.eventbrite.com/e/networking-afterhours-ave-blu-free-appetizers-all-professionals-invited-tickets-1389616142289?aff=ebdsoporgprofile
URL:https://tampabusinessclub.com/event/%f0%9f%8c%86-mix-mingle-make-connections-at-networking-afterhours-ave-blu/
END:VEVENT
END:VCALENDAR