BEGIN:VCALENDAR
VERSION:2.0
PRODID:-//Tampa Business Club - ECPv6.15.18//NONSGML v1.0//EN
CALSCALE:GREGORIAN
METHOD:PUBLISH
X-ORIGINAL-URL:https://tampabusinessclub.com
X-WR-CALDESC:Events for Tampa Business Club
REFRESH-INTERVAL;VALUE=DURATION:PT1H
X-Robots-Tag:noindex
X-PUBLISHED-TTL:PT1H
BEGIN:VTIMEZONE
TZID:UTC
BEGIN:STANDARD
TZOFFSETFROM:+0000
TZOFFSETTO:+0000
TZNAME:UTC
DTSTART:20240101T000000
END:STANDARD
END:VTIMEZONE
BEGIN:VEVENT
DTSTART;TZID=UTC:20250610T090000
DTEND;TZID=UTC:20250610T110000
DTSTAMP:20260422T030924
CREATED:20250602T194325Z
LAST-MODIFIED:20250602T194325Z
UID:1000016979-1749546000-1749553200@tampabusinessclub.com
SUMMARY:☕🤝 Start Your Morning Right with Coffee & Referrals at The Brothers Thomas Café!
DESCRIPTION:Wake up and network with purpose at Coffee & Referrals\, happening Tuesday\, June 10 from 9 AM to 11 AM at The Brothers Thomas Bespoke Café\, located at 176 Carillon Parkway\, St. Petersburg\, FL. \nHosted by the Tampa Business Club\, this energizing morning meetup brings together local professionals for meaningful conversations over a hot cup of coffee. It’s the perfect opportunity to connect\, collaborate\, and exchange referrals in a relaxed and welcoming setting. \nWhether you’re a business owner\, freelancer\, or simply looking to expand your circle\, this event offers the perfect blend of caffeine and connection to kickstart your day. \n📸 Get a taste of the vibe:\n Follow Tampa Business Club \n🎟️ Seats fill fast—register now to reserve your spot!\n 👉 Grab Your Ticket Here \nhttps://www.eventbrite.com/e/coffee-referrals-the-brothers-thomas-cafe-9-11am-tickets-1377879527759?aff=ebdsoporgprofile \n#Tampa #TampaBay #StPete #Clearwater #ThingsToDo #LocalEvents #Networking #TampaBayConnects #TampaNetworking #WomenInBusiness #TampaEntrepreneurs #Startups #TampaEats #TampaNightlife #DowntownTampa #TampaEvents #TampaSocials#tampaMagazine #TampaBayMagazine\n TampaBusinessClub\ntampabayconnects.com\nWomenImpactNetwork \nTampaBayLatinChamber \nhttps://www.eventbrite.com/e/coffee-referrals-the-brothers-thomas-cafe-9-11am-tickets-1377879527759?aff=ebdsoporgprofile
URL:https://tampabusinessclub.com/event/%e2%98%95%f0%9f%a4%9d-start-your-morning-right-with-coffee-referrals-at-the-brothers-thomas-cafe/
END:VEVENT
BEGIN:VEVENT
DTSTART;TZID=UTC:20250610T180000
DTEND;TZID=UTC:20250610T210000
DTSTAMP:20260422T030924
CREATED:20250602T200450Z
LAST-MODIFIED:20250602T200450Z
UID:1000016987-1749578400-1749589200@tampabusinessclub.com
SUMMARY:💫 Empowered Women\, Empower Women: Join the Women Impact Network Ybor Chapter!
DESCRIPTION:Mark your calendars for Tuesday\, June 10\, from 6 PM to 9 PM\, and get ready to connect\, collaborate\, and celebrate at Trellis at Buchman – Gastropub\, located at 1910 East 7th Avenue #103\, Tampa\, FL. \nThe Women Impact Network Ybor Chapter is bringing together driven\, inspiring\, and ambitious women for an evening of networking\, growth\, and real conversations — and the best part? Admission is free! This event is your chance to build meaningful relationships\, share your story\, and be part of a powerful community of changemakers. \nWhether you’re an entrepreneur\, professional\, or simply passionate about making a difference\, this is where your voice matters and your presence is celebrated. \n🎟️ Claim your FREE spot now!\n 👉 Register here \nhttps://www.eventbrite.com/e/women-impact-network-ybor-chapter-free-admission-tickets-1384115429509?aff=ebdsoporgprofile \n📲 Follow the movement: Tampa Business Club \n#Tampa #TampaBay #StPete #Clearwater #ThingsToDo #LocalEvents #Networking #TampaBayConnects #TampaNetworking #WomenInBusiness #TampaEntrepreneurs #Startups #TampaEats #TampaNightlife #DowntownTampa #TampaEvents #TampaSocials#tampaMagazine #TampaBayMagazine\n TampaBusinessClub\ntampabayconnects.com\nWomenImpactNetwork \nTampaBayLatinChamber \nhttps://www.eventbrite.com/e/women-impact-network-ybor-chapter-free-admission-tickets-1384115429509?aff=ebdsoporgprofile \n 
URL:https://tampabusinessclub.com/event/%f0%9f%92%ab-empowered-women-empower-women-join-the-women-impact-network-ybor-chapter/
ATTACH;FMTTYPE=image/avif:https://tampabusinessclub.com/wp-content/uploads/2025/06/https___cdn.evbuc_.com_images_1040735843_219764649937_1_original.avif
END:VEVENT
END:VCALENDAR