BEGIN:VCALENDAR
VERSION:2.0
PRODID:-//Tampa Business Club - ECPv6.15.18//NONSGML v1.0//EN
CALSCALE:GREGORIAN
METHOD:PUBLISH
X-ORIGINAL-URL:https://tampabusinessclub.com
X-WR-CALDESC:Events for Tampa Business Club
REFRESH-INTERVAL;VALUE=DURATION:PT1H
X-Robots-Tag:noindex
X-PUBLISHED-TTL:PT1H
BEGIN:VTIMEZONE
TZID:UTC
BEGIN:STANDARD
TZOFFSETFROM:+0000
TZOFFSETTO:+0000
TZNAME:UTC
DTSTART:20240101T000000
END:STANDARD
END:VTIMEZONE
BEGIN:VEVENT
DTSTART;TZID=UTC:20250603T120000
DTEND;TZID=UTC:20250603T150000
DTSTAMP:20260422T030920
CREATED:20250521T145314Z
LAST-MODIFIED:20250521T145314Z
UID:1000016925-1748952000-1748962800@tampabusinessclub.com
SUMMARY:St. Pete Housing Authority Networking Kickoff at the EpiCenter
DESCRIPTION:St. Pete Housing Authority Networking Kickoff \n📅 Tuesday\, June 3🕛 12:00 PM – 3:00 PM EDT📍 EpiCenter at St. Petersburg College13805 58th Street North\, Clearwater\, FL 33760🎟️ Reserve your spot now \nCome be part of an inspiring afternoon of connection\, collaboration\, and community impact at the St. Pete Housing Authority Networking Kickoff! \nThis exciting event will bring together professionals\, community partners\, and advocates for a unique opportunity to: \n\n\nBuild meaningful relationships \n\n\nShare insights and strategies \n\n\nExplore new opportunities that support local housing efforts \n\n\n💬 Network with industry leaders and changemakers who are shaping the future of housing in our region. \nAdmission is free\, but registration is required.🌟 Together\, we can make a difference—see you there!
URL:https://tampabusinessclub.com/event/st-pete-housing-authority-networking-kickoff-at-the-epicenter/
END:VEVENT
BEGIN:VEVENT
DTSTART;TZID=UTC:20250603T180000
DTEND;TZID=UTC:20250603T203000
DTSTAMP:20260422T030920
CREATED:20250521T151004Z
LAST-MODIFIED:20250521T151004Z
UID:1000016931-1748973600-1748982600@tampabusinessclub.com
SUMMARY:Women Impact Network Networking Social DTSP. Free Admission
DESCRIPTION:Women Impact Network – Networking Social | DTSPFree Admission | Inspiring Connections | Beautiful Vibes \n📅 Tuesday\, June 3🕕 6:00 PM – 8:30 PM EDT📍 The Hangar Restaurant & Flight Lounge540 1st Street South\, St. Petersburg\, FL 33701🎟️ Reserve your spot here – Free Admission! \nJoin us for a vibrant evening of empowerment and connection in the heart of Downtown St. Pete! This is your chance to meet local women leaders\, professionals\, and entrepreneurs in a relaxed and welcoming environment. \nEnjoy powerful conversations\, build authentic relationships\, and grow your network while soaking in the scenic vibes at The Hangar Restaurant & Flight Lounge. \n✨ No pressure. No agenda. Just powerful women supporting women.💬 Admission is free\, but registration is required—don’t miss out!
URL:https://tampabusinessclub.com/event/women-impact-network-networking-social-dtsp-free-admission-2/
END:VEVENT
END:VCALENDAR