BEGIN:VCALENDAR
VERSION:2.0
PRODID:-//Tampa Business Club - ECPv6.15.18//NONSGML v1.0//EN
CALSCALE:GREGORIAN
METHOD:PUBLISH
X-ORIGINAL-URL:https://tampabusinessclub.com
X-WR-CALDESC:Events for Tampa Business Club
REFRESH-INTERVAL;VALUE=DURATION:PT1H
X-Robots-Tag:noindex
X-PUBLISHED-TTL:PT1H
BEGIN:VTIMEZONE
TZID:UTC
BEGIN:STANDARD
TZOFFSETFROM:+0000
TZOFFSETTO:+0000
TZNAME:UTC
DTSTART:20240101T000000
END:STANDARD
END:VTIMEZONE
BEGIN:VEVENT
DTSTART;TZID=UTC:20250520T180000
DTEND;TZID=UTC:20250520T210000
DTSTAMP:20260422T044114
CREATED:20250515T200452Z
LAST-MODIFIED:20250515T200452Z
UID:1000016890-1747764000-1747774800@tampabusinessclub.com
SUMMARY:Empowering Connections at the Women Impact Network Oldsmar Chapter
DESCRIPTION:📅 Tuesday\, May 20 | 6:00 – 9:00 PM EDT\n 📍 Flamestone American Grill\, 4009 Tampa Road\, Oldsmar\, FL 34677\n 🎟️ Free Admission + Complimentary Appetizers\n 🔗 Register on Eventbrite \nThe Women Impact Network Oldsmar Chapter invites female leaders\, entrepreneurs\, and community shapers for an empowering evening of networking\, collaboration\, and support. Hosted at the elegant Flamestone American Grill\, attendees will enjoy complimentary appetizers while connecting with a community of purpose-driven women. \nWhether you’re growing your business\, seeking inspiration\, or just want to surround yourself with positivity and powerful energy—this gathering is for you. \n✨ Why You Should Attend: \n\nBuild authentic relationships in a welcoming environment\n\n\n\nShare your story and gain support from fellow women in business\n\n\n\nEnjoy great food and lively conversations\n\n\nhttps://www.eventbrite.com/e/women-impact-network-oldsmar-chapter-free-admission-appetizers-tickets-1361566545189?aff=ebdsoporgprofile \n📸 Let’s build together\, uplift one another\, and grow our impact.\n Follow the movement → @tampabusinessclub \n#Tampa #TampaBay #StPete #Clearwater #ThingsToDo #LocalEvents #Networking #TampaBayConnects #TampaNetworking #WomenInBusiness #TampaEntrepreneurs #Startups #TampaEats #TampaNightlife #DowntownTampa #TampaEvents #TampaSocials#tampaMagazine #TampaBayMagazine\n TampaBusinessClub\ntampabayconnects.com\nWomenImpactNetwork \nTampaBayLatinChamber \nhttps://www.eventbrite.com/e/women-impact-network-oldsmar-chapter-free-admission-appetizers-tickets-1361566545189?aff=ebdsoporgprofile
URL:https://tampabusinessclub.com/event/empowering-connections-at-the-women-impact-network-oldsmar-chapter/
END:VEVENT
END:VCALENDAR