BEGIN:VCALENDAR
VERSION:2.0
PRODID:-//Tampa Business Club - ECPv6.15.18//NONSGML v1.0//EN
CALSCALE:GREGORIAN
METHOD:PUBLISH
X-WR-CALNAME:Tampa Business Club
X-ORIGINAL-URL:https://tampabusinessclub.com
X-WR-CALDESC:Events for Tampa Business Club
REFRESH-INTERVAL;VALUE=DURATION:PT1H
X-Robots-Tag:noindex
X-PUBLISHED-TTL:PT1H
BEGIN:VTIMEZONE
TZID:UTC
BEGIN:STANDARD
TZOFFSETFROM:+0000
TZOFFSETTO:+0000
TZNAME:UTC
DTSTART:20240101T000000
END:STANDARD
END:VTIMEZONE
BEGIN:VEVENT
DTSTART;TZID=UTC:20250515T173000
DTEND;TZID=UTC:20250515T200000
DTSTAMP:20260422T043948
CREATED:20250414T141644Z
LAST-MODIFIED:20250414T141644Z
UID:1000016652-1747330200-1747339200@tampabusinessclub.com
SUMMARY:⚡️ Make Connections Fast at Tampa Speed Networking — With Free Appetizers!
DESCRIPTION:Get ready to mix\, mingle\, and make meaningful connections—fast! Join us for Tampa Speed Networking on Thursday\, May 15 from 5:30 PM to 8:30 PM at the stylish and modern Trellis at Buchman – Gastropub. \nThis high-energy event is perfect for professionals\, entrepreneurs\, creatives\, and community leaders looking to expand their network quickly and effectively. Whether you’re growing your business\, exploring new partnerships\, or just want to meet fresh faces—this is your golden opportunity! \n💬 What to Expect \n\nSpeed-style networking rounds\n\nEngaging conversations with diverse professionals\n\nA relaxed\, social vibe with free appetizers to keep things flavorful!\n\n\n🗓️ Date: Thursday\, May 15\n ⏰ Time: 5:30 PM – 8:30 PM\n 📍 Location: Trellis at Buchman – Gastropub\, Tampa\n 🎟️ Admission: FREE \n🚀 Don’t miss your chance to connect with Tampa’s rising stars and seasoned pros.\n 🔗 Click here to register now — spots fill up fast!\n\nhttps://www.eventbrite.com/e/tampa-speed-networking-free-appetizers-tickets-1316382679029?aff=ebdsoporgprofile \nLet’s speed things up and spark opportunities that matter. See you there! \n#Tampa #TampaBay #StPete #Clearwater #ThingsToDo #LocalEvents #Networking #TampaBayConnects #TampaNetworking #WomenInBusiness #TampaEntrepreneurs #Startups #TampaEats #TampaNightlife #DowntownTampa #TampaEvents #TampaSocials\n TampaBusinessClub\ntampabayconnects.com\nWomenImpactNetwork \nTampaBayLatinChamber \n  \nhttps://www.eventbrite.com/e/tampa-speed-networking-free-appetizers-tickets-1316382679029?aff=ebdsoporgprofile
URL:https://tampabusinessclub.com/event/%e2%9a%a1%ef%b8%8f-make-connections-fast-at-tampa-speed-networking-with-free-appetizers/
ATTACH;FMTTYPE=image/png:https://tampabusinessclub.com/wp-content/uploads/2025/04/https___cdn.evbuc_.com_images_1002743103_219764649937_1_original.png
END:VEVENT
END:VCALENDAR