BEGIN:VCALENDAR
VERSION:2.0
PRODID:-//Tampa Business Club - ECPv6.15.18//NONSGML v1.0//EN
CALSCALE:GREGORIAN
METHOD:PUBLISH
X-ORIGINAL-URL:https://tampabusinessclub.com
X-WR-CALDESC:Events for Tampa Business Club
REFRESH-INTERVAL;VALUE=DURATION:PT1H
X-Robots-Tag:noindex
X-PUBLISHED-TTL:PT1H
BEGIN:VTIMEZONE
TZID:UTC
BEGIN:STANDARD
TZOFFSETFROM:+0000
TZOFFSETTO:+0000
TZNAME:UTC
DTSTART:20240101T000000
END:STANDARD
END:VTIMEZONE
BEGIN:VEVENT
DTSTART;TZID=UTC:20250514T180000
DTEND;TZID=UTC:20250514T210000
DTSTAMP:20260422T062225
CREATED:20250416T132339Z
LAST-MODIFIED:20250416T132654Z
UID:1000016662-1747245600-1747256400@tampabusinessclub.com
SUMMARY:🌆 Tampa Bay Real Estate Network's Premier Networking Social at the Hyatt!
DESCRIPTION:Calling all Tampa Bay professionals\, real estate rockstars\, and entrepreneurial visionaries — this is the networking event you’ve been waiting for! \nJoin us on Wednesday\, May 14\, from 6 PM to 9 PM at the sleek and stylish Hyatt Place Tampa Downtown for an unforgettable evening of high-level connections\, community vibes\, and endless opportunities. \nWhether you’re a seasoned investor\, first-time homebuyer\, startup founder\, or simply someone who loves to build meaningful relationships — this social is your gateway to the movers and shakers of the Tampa Bay real estate and business scene. \nLocation:\n 📍 Hyatt Place Tampa Downtown\n 325 North Florida Avenue\, Tampa\, FL 33602 \n✨ Expect:\n ✔️ Lively networking with industry leaders\n ✔️ A beautiful venue in the heart of Tampa\n ✔️ Collaborative energy from professionals across #Tampa\, #StPete\, and #Clearwater\n ✔️ A chance to grow your business and brand visibility \n🎟️ Space is limited\, so don’t wait — register now:\n 👉 https://www.eventbrite.com/e/tampa-bay-real-estate-network-networking-social-hyatt-hotel-tickets-1328070397309?aff=ebdsoporgprofile \nLet Tampa Bay see what you’re made of. Bring your business cards\, dress to impress\, and let’s make magic happen. \n#Tampa #TampaBay #StPete #Clearwater #ThingsToDo #LocalEvents #Networking #TampaBayConnects #TampaNetworking #WomenInBusiness #TampaEntrepreneurs #Startups #TampaEats #TampaNightlife #DowntownTampa #TampaEvents #TampaSocials\n TampaBusinessClub\ntampabayconnects.com\nWomenImpactNetwork \nTampaBayLatinChamber \nhttps://www.eventbrite.com/e/tampa-bay-real-estate-network-networking-social-hyatt-hotel-tickets-1328070397309?aff=ebdsoporgprofile
URL:https://tampabusinessclub.com/event/%f0%9f%8c%86-tampa-bay-real-estate-networks-premier-networking-social-at-the-hyatt/
ATTACH;FMTTYPE=image/avif:https://tampabusinessclub.com/wp-content/uploads/2025/04/https___cdn.evbuc_.com_images_1010238913_219764649937_1_original.avif
END:VEVENT
END:VCALENDAR