BEGIN:VCALENDAR
VERSION:2.0
PRODID:-//Tampa Business Club - ECPv6.15.18//NONSGML v1.0//EN
CALSCALE:GREGORIAN
METHOD:PUBLISH
X-WR-CALNAME:Tampa Business Club
X-ORIGINAL-URL:https://tampabusinessclub.com
X-WR-CALDESC:Events for Tampa Business Club
REFRESH-INTERVAL;VALUE=DURATION:PT1H
X-Robots-Tag:noindex
X-PUBLISHED-TTL:PT1H
BEGIN:VTIMEZONE
TZID:UTC
BEGIN:STANDARD
TZOFFSETFROM:+0000
TZOFFSETTO:+0000
TZNAME:UTC
DTSTART:20240101T000000
END:STANDARD
END:VTIMEZONE
BEGIN:VEVENT
DTSTART;TZID=UTC:20250512T180000
DTEND;TZID=UTC:20250512T210000
DTSTAMP:20260422T062123
CREATED:20250428T151617Z
LAST-MODIFIED:20250429T180044Z
UID:1000016716-1747072800-1747083600@tampabusinessclub.com
SUMMARY:Let’s Talk Innovation: A Firechat & Networking Social You Can't Miss!
DESCRIPTION:Fuel your passion for innovation and expand your network at the Let’s Talks Innovation Firechat & Networking Social! Join us on Monday\, May 12\, from 6 PM to 9 PM at the elegant Hotel Tampa Riverwalk for an evening packed with fresh ideas\, powerful conversations\, and valuable connections. \nExpect an engaging Firechat session with thought leaders and innovators who are ready to inspire and challenge the way you think. Then\, mix and mingle with fellow entrepreneurs\, creators\, and professionals who are just as eager to ignite new opportunities. \nTake action now — spaces are limited for this high-energy evening of networking and growth! \n👉 Register today: https://www.eventbrite.com/e/lets-talks-innovation-firechat-networking-social-tickets-1306912704079?aff=ebdsoporgprofile
URL:https://tampabusinessclub.com/event/lets-talk-innovation-a-firechat-networking-social-you-cant-miss/
ATTACH;FMTTYPE=image/avif:https://tampabusinessclub.com/wp-content/uploads/2025/04/https___cdn.evbuc_.com_images_1016118483_219764649937_1_original.avif
END:VEVENT
END:VCALENDAR